BEGIN:VCALENDAR
VERSION:2.0
PRODID:Getting Familiar with Zoom - Webinar - Open to Minnesota Residents O
 nly
BEGIN:VEVENT
UID:69e55e6e6ff4b
DTSTART:20210525T150000Z
SEQUENCE:0
TRANSP:OPAQUE
DTEND:20210525T170000Z
LOCATION:700 Raymond Avenue\nSt. Paul\, MN\n55114
SUMMARY:Getting Familiar with Zoom - Webinar - Open to Minnesota Residents 
 Only
CLASS:PUBLIC
DTSTAMP:20260419T225958Z
END:VEVENT
END:VCALENDAR