BEGIN:VCALENDAR
VERSION:2.0
PRODID:Getting Familiar with Zoom - Webinar - Open to Minnesota Residents O
 nly
BEGIN:VEVENT
UID:69e4e9dc6180b
DTSTART:20210216T160000Z
SEQUENCE:0
TRANSP:OPAQUE
DTEND:20210216T180000Z
LOCATION:700 Raymond Avenue\nSt. Paul\, MN\n55114
SUMMARY:Getting Familiar with Zoom - Webinar - Open to Minnesota Residents 
 Only
CLASS:PUBLIC
DTSTAMP:20260419T144236Z
END:VEVENT
END:VCALENDAR