BEGIN:VCALENDAR
VERSION:2.0
PRODID:Racial Equity 101 - Webinar - Advanced registration required!
BEGIN:VEVENT
UID:69e5205e254c1
DTSTART:20210423T150000Z
SEQUENCE:0
TRANSP:OPAQUE
DTEND:20210423T170000Z
LOCATION:700 Raymond Avenue\nSt. Paul\, MN\n55114
SUMMARY:Racial Equity 101 - Webinar - Advanced registration required!
CLASS:PUBLIC
DTSTAMP:20260419T183510Z
END:VEVENT
END:VCALENDAR