BEGIN:VCALENDAR
VERSION:2.0
PRODID:Teaching Reading Vocabulary Remotely or In Person - Webinar - Advanc
 ed registration required!
BEGIN:VEVENT
UID:69e4e97db6269
DTSTART:20210302T160000Z
SEQUENCE:0
TRANSP:OPAQUE
DTEND:20210302T173000Z
LOCATION:700 Raymond Avenue\nSt. Paul\, MN\n55114
SUMMARY:Teaching Reading Vocabulary Remotely or In Person - Webinar - Advan
 ced registration required!
CLASS:PUBLIC
DTSTAMP:20260419T144101Z
END:VEVENT
END:VCALENDAR