BEGIN:VCALENDAR
VERSION:2.0
PRODID:Developing and Practicing Reading Fluency - Webinar - Advanced regis
 tration required!
BEGIN:VEVENT
UID:69e53ece3cae3
DTSTART:20210115T160000Z
SEQUENCE:0
TRANSP:OPAQUE
DTEND:20210115T173000Z
LOCATION:700 Raymond Avenue\nSt. Paul\, MN\n55114
SUMMARY:Developing and Practicing Reading Fluency - Webinar - Advanced regi
 stration required!
CLASS:PUBLIC
DTSTAMP:20260419T204502Z
END:VEVENT
END:VCALENDAR