BEGIN:VCALENDAR
VERSION:2.0
PRODID:Cultural Perspectives for Diverse Adult Learners - Webinar - Advance
 d registration required!
BEGIN:VEVENT
UID:69e5203348dce
DTSTART:20210122T003000Z
SEQUENCE:0
TRANSP:OPAQUE
DTEND:20210122T023000Z
LOCATION:700 Raymond Avenue\nSt. Paul\, MN\n55114
SUMMARY:Cultural Perspectives for Diverse Adult Learners - Webinar - Advanc
 ed registration required!
CLASS:PUBLIC
DTSTAMP:20260419T183427Z
END:VEVENT
END:VCALENDAR