BEGIN:VCALENDAR
VERSION:2.0
PRODID:How Adult Brains Learn Languages - Webinar - Advanced registration r
 equired!
BEGIN:VEVENT
UID:69e4ea3518841
DTSTART:20210428T233000Z
SEQUENCE:0
TRANSP:OPAQUE
DTEND:20210429T013000Z
LOCATION:700 Raymond Avenue\nSt. Paul\, MN\n55114
SUMMARY:How Adult Brains Learn Languages - Webinar - Advanced registration 
 required!
CLASS:PUBLIC
DTSTAMP:20260419T144405Z
END:VEVENT
END:VCALENDAR