BEGIN:VCALENDAR
VERSION:2.0
PRODID:Developing Fluency and Vocabulary for Beginning English Speakers - W
 ebinar - Advanced registration required!
BEGIN:VEVENT
UID:69e4e98dcc173
DTSTART:20210210T190000Z
SEQUENCE:0
TRANSP:OPAQUE
DTEND:20210210T203000Z
LOCATION:700 Raymond Avenue\nSt. Paul\, MN\n55114
SUMMARY:Developing Fluency and Vocabulary for Beginning English Speakers - 
 Webinar - Advanced registration required!
CLASS:PUBLIC
DTSTAMP:20260419T144117Z
END:VEVENT
END:VCALENDAR