BEGIN:VCALENDAR
VERSION:2.0
PRODID:Facilitating Positive Experiences during Remote Learning 101 - Webin
 ar - Advanced registration required!
BEGIN:VEVENT
UID:69e4ea9dbd3a3
DTSTART:20210219T160000Z
SEQUENCE:0
TRANSP:OPAQUE
DTEND:20210219T180000Z
LOCATION:700 Raymond Avenue\nSt. Paul\, MN\n55114
SUMMARY:Facilitating Positive Experiences during Remote Learning 101 - Webi
 nar - Advanced registration required!
CLASS:PUBLIC
DTSTAMP:20260419T144549Z
END:VEVENT
END:VCALENDAR