BEGIN:VCALENDAR
VERSION:2.0
PRODID:Please Say That Again: Virtual Pronunciation Instruction for Adult E
 SL Learners - Webinar - Advanced registration required!
BEGIN:VEVENT
UID:69e4eeaf15b2c
DTSTART:20210422T150000Z
SEQUENCE:0
TRANSP:OPAQUE
DTEND:20210422T163000Z
LOCATION:700 Raymond Avenue\nSt. Paul\, MN\n55114
SUMMARY:Please Say That Again: Virtual Pronunciation Instruction for Adult 
 ESL Learners - Webinar - Advanced registration required!
CLASS:PUBLIC
DTSTAMP:20260419T150311Z
END:VEVENT
END:VCALENDAR