BEGIN:VCALENDAR
VERSION:2.0
PRODID:Talk Amongst Yourselves: Building Up to Student-Facilitated Conversa
 tions - Webinar - Advanced registration required!
BEGIN:VEVENT
UID:69e4eec089265
DTSTART:20210217T160000Z
SEQUENCE:0
TRANSP:OPAQUE
DTEND:20210217T173000Z
LOCATION:700 Raymond Avenue\nSt. Paul\, MN\n55114
SUMMARY:Talk Amongst Yourselves: Building Up to Student-Facilitated Convers
 ations - Webinar - Advanced registration required!
CLASS:PUBLIC
DTSTAMP:20260419T150328Z
END:VEVENT
END:VCALENDAR