BEGIN:VCALENDAR
VERSION:2.0
PRODID:Talk Amongst Yourselves: Building Up to Student-Facilitated Conversa
 tions - Webinar - Advanced registration required!
BEGIN:VEVENT
UID:69e506259c41a
DTSTART:20210401T233000Z
SEQUENCE:0
TRANSP:OPAQUE
DTEND:20210402T010000Z
LOCATION:700 Raymond Avenue\nSt. Paul\, MN\n55114
SUMMARY:Talk Amongst Yourselves: Building Up to Student-Facilitated Convers
 ations - Webinar - Advanced registration required!
CLASS:PUBLIC
DTSTAMP:20260419T164317Z
END:VEVENT
END:VCALENDAR