BEGIN:VCALENDAR
VERSION:2.0
PRODID:One Step at a Time: Remote Tutoring for Literacy Level Learners - We
 binar - Advanced registration required!
BEGIN:VEVENT
UID:69e69cc162207
DTSTART:20210226T003000Z
SEQUENCE:0
TRANSP:OPAQUE
DTEND:20210226T020000Z
LOCATION:700 Raymond Avenue\nSt. Paul\, MN\n55114
SUMMARY:One Step at a Time: Remote Tutoring for Literacy Level Learners - W
 ebinar - Advanced registration required!
CLASS:PUBLIC
DTSTAMP:20260420T213809Z
END:VEVENT
END:VCALENDAR