BEGIN:VCALENDAR
VERSION:2.0
PRODID:One Step at a Time: Remote Tutoring for Literacy Level Learners - We
 binar - Advanced registration required!
BEGIN:VEVENT
UID:69e4e8efecc47
DTSTART:20210127T160000Z
SEQUENCE:0
TRANSP:OPAQUE
DTEND:20210127T173000Z
LOCATION:700 Raymond Avenue\nSt. Paul\, MN\n55114
SUMMARY:One Step at a Time: Remote Tutoring for Literacy Level Learners - W
 ebinar - Advanced registration required!
CLASS:PUBLIC
DTSTAMP:20260419T143839Z
END:VEVENT
END:VCALENDAR