BEGIN:VCALENDAR
VERSION:2.0
PRODID:Teaching Phonics Virtually to Adult ESL Learners - Webinar - Advance
 d registration required!
BEGIN:VEVENT
UID:69e4ee29e52c0
DTSTART:20210316T233000Z
SEQUENCE:0
TRANSP:OPAQUE
DTEND:20210317T010000Z
LOCATION:700 Raymond Avenue\nSt. Paul\, MN\n55114
SUMMARY:Teaching Phonics Virtually to Adult ESL Learners - Webinar - Advanc
 ed registration required!
CLASS:PUBLIC
DTSTAMP:20260419T150057Z
END:VEVENT
END:VCALENDAR