BEGIN:VCALENDAR
VERSION:2.0
PRODID:A Roadmap for Success: Remote Lesson Planning 101 - Webinar - Advanc
 ed registration required!
BEGIN:VEVENT
UID:69e5053198be7
DTSTART:20210312T003000Z
SEQUENCE:0
TRANSP:OPAQUE
DTEND:20210312T020000Z
LOCATION:700 Raymond Avenue\nSt. Paul\, MN\n55114
SUMMARY:A Roadmap for Success: Remote Lesson Planning 101 - Webinar - Advan
 ced registration required!
CLASS:PUBLIC
DTSTAMP:20260419T163913Z
END:VEVENT
END:VCALENDAR