BEGIN:VCALENDAR
VERSION:2.0
PRODID:A Roadmap for Success: Remote Lesson Planning 101 - Webinar - Advanc
 ed registration required!
BEGIN:VEVENT
UID:69e4e955c93c8
DTSTART:20210209T160000Z
SEQUENCE:0
TRANSP:OPAQUE
DTEND:20210209T173000Z
LOCATION:700 Raymond Avenue\nSt. Paul\, MN\n55114
SUMMARY:A Roadmap for Success: Remote Lesson Planning 101 - Webinar - Advan
 ced registration required!
CLASS:PUBLIC
DTSTAMP:20260419T144021Z
END:VEVENT
END:VCALENDAR