BEGIN:VCALENDAR
VERSION:2.0
PRODID:Making It Work: Adapting Materials 101 - Webinar - Advanced registra
 tion required!
BEGIN:VEVENT
UID:69e4e99539a2d
DTSTART:20210204T003000Z
SEQUENCE:0
TRANSP:OPAQUE
DTEND:20210204T020000Z
LOCATION:700 Raymond Avenue\nSt. Paul\, MN\n55114
SUMMARY:Making It Work: Adapting Materials 101 - Webinar - Advanced registr
 ation required!
CLASS:PUBLIC
DTSTAMP:20260419T144125Z
END:VEVENT
END:VCALENDAR