BEGIN:VCALENDAR
VERSION:2.0
PRODID:Racial Equity 101 - Webinar - Advanced registration required!
BEGIN:VEVENT
UID:69e51f8267714
DTSTART:20210113T003000Z
SEQUENCE:0
TRANSP:OPAQUE
DTEND:20210113T023000Z
LOCATION:700 Raymond Avenue\nSt. Paul\, MN\n55114
SUMMARY:Racial Equity 101 - Webinar - Advanced registration required!
CLASS:PUBLIC
DTSTAMP:20260419T183130Z
END:VEVENT
END:VCALENDAR