BEGIN:VCALENDAR
VERSION:2.0
PRODID:Racial Equity 101 - Webinar - Advanced registration required!
BEGIN:VEVENT
UID:69e4ee539f401
DTSTART:20210224T160000Z
SEQUENCE:0
TRANSP:OPAQUE
DTEND:20210224T180000Z
LOCATION:700 Raymond Avenue\nSt. Paul\, MN\n55114
SUMMARY:Racial Equity 101 - Webinar - Advanced registration required!
CLASS:PUBLIC
DTSTAMP:20260419T150139Z
END:VEVENT
END:VCALENDAR