BEGIN:VCALENDAR
VERSION:2.0
PRODID:Remote Tutoring 101 - Webinar - Advanced registration required!
BEGIN:VEVENT
UID:69e64960a7b5a
DTSTART:20210303T160000Z
SEQUENCE:0
TRANSP:OPAQUE
DTEND:20210303T173000Z
LOCATION:700 Raymond Avenue\nSt. Paul\, MN\n55114
SUMMARY:Remote Tutoring 101 - Webinar - Advanced registration required!
CLASS:PUBLIC
DTSTAMP:20260420T154224Z
END:VEVENT
END:VCALENDAR