BEGIN:VCALENDAR
VERSION:2.0
PRODID:Islamophobia in the United States - Webinar - Advanced registration 
 required!
BEGIN:VEVENT
UID:69e5062c52f69
DTSTART:20210304T003000Z
SEQUENCE:0
TRANSP:OPAQUE
DTEND:20210304T023000Z
LOCATION:700 Raymond Avenue\nSt. Paul\, MN\n55114
SUMMARY:Islamophobia in the United States - Webinar - Advanced registration
  required!
CLASS:PUBLIC
DTSTAMP:20260419T164324Z
END:VEVENT
END:VCALENDAR