BEGIN:VCALENDAR
VERSION:2.0
PRODID:NOW A WEBINAR How Adult Brains Learn Languages
BEGIN:VEVENT
UID:69e73407aa867
DTSTART:20200423T233000Z
SEQUENCE:0
TRANSP:OPAQUE
DTEND:20200424T013000Z
LOCATION:700 Raymond Avenue\nSt. Paul\, MN\n55114
SUMMARY:NOW A WEBINAR How Adult Brains Learn Languages
CLASS:PUBLIC
DTSTAMP:20260421T082335Z
END:VEVENT
END:VCALENDAR